BEGIN:VCALENDAR
VERSION:2.0
PRODID:-//Treefrog Inc. - ECPv6.15.20//NONSGML v1.0//EN
CALSCALE:GREGORIAN
METHOD:PUBLISH
X-WR-CALNAME:Treefrog Inc.
X-ORIGINAL-URL:https://www.treefrog.ca
X-WR-CALDESC:Events for Treefrog Inc.
REFRESH-INTERVAL;VALUE=DURATION:PT1H
X-Robots-Tag:noindex
X-PUBLISHED-TTL:PT1H
BEGIN:VTIMEZONE
TZID:America/Toronto
BEGIN:DAYLIGHT
TZOFFSETFROM:-0500
TZOFFSETTO:-0400
TZNAME:EDT
DTSTART:20200308T070000
END:DAYLIGHT
BEGIN:STANDARD
TZOFFSETFROM:-0400
TZOFFSETTO:-0500
TZNAME:EST
DTSTART:20201101T060000
END:STANDARD
BEGIN:DAYLIGHT
TZOFFSETFROM:-0500
TZOFFSETTO:-0400
TZNAME:EDT
DTSTART:20210314T070000
END:DAYLIGHT
BEGIN:STANDARD
TZOFFSETFROM:-0400
TZOFFSETTO:-0500
TZNAME:EST
DTSTART:20211107T060000
END:STANDARD
BEGIN:DAYLIGHT
TZOFFSETFROM:-0500
TZOFFSETTO:-0400
TZNAME:EDT
DTSTART:20220313T070000
END:DAYLIGHT
BEGIN:STANDARD
TZOFFSETFROM:-0400
TZOFFSETTO:-0500
TZNAME:EST
DTSTART:20221106T060000
END:STANDARD
END:VTIMEZONE
BEGIN:VEVENT
DTSTART;TZID=America/Toronto:20210505T120000
DTEND;TZID=America/Toronto:20210505T130000
DTSTAMP:20260425T155204
CREATED:20210413T160003Z
LAST-MODIFIED:20210413T160853Z
UID:3935-1620216000-1620219600@www.treefrog.ca
SUMMARY:How to Get Started With Your Online Store
DESCRIPTION:Confused on how to get your online store up and where to begin? Looking for an overview on building an online store? \nTake a crash course on online stores\, see how easy it is to get started with yours. Join Sean Stephens\, CEO of Treefrog\, as he shares his beginners guide to getting started with your online store. \nIn this webinar\, Sean will share his tips and tricks on what you need to start your online store. \n  \nThis webinar is apart of the Beyond the Basics: Digital Marketing Series in partnership with The Business Centre Nipissing Parry Sound Inc.  \n  \nRegister for the Event
URL:https://www.treefrog.ca/event/how-to-get-started-with-your-online-store/
LOCATION:Online (webinar)
CATEGORIES:Web Design & Development
ATTACH;FMTTYPE=image/jpeg:https://www.treefrog.ca/wp-content/uploads/2021/04/bench-accounting-MGaFENpDCsw-unsplash-scaled.jpg
END:VEVENT
BEGIN:VEVENT
DTSTART;TZID=America/Toronto:20210513T120000
DTEND;TZID=America/Toronto:20210513T130000
DTSTAMP:20260425T155204
CREATED:20210430T152126Z
LAST-MODIFIED:20210430T152126Z
UID:4073-1620907200-1620910800@www.treefrog.ca
SUMMARY:SEO: The Way to Get Your Business Noticed
DESCRIPTION:SEO is your digital megaphone! \nSEO is critical for getting your business to appear on search engines like Google. No matter the size of your business\, SEO can help you grow your online presence. It’s a vital part of your marketing strategy and should always be top of mind. \nJoin Sean Stephens\, CEO of Treefrog Inc\, as he shares with you the secrets to SEO. In this digital webinar session\, you’ll learn what SEO is and how it can help amplify your business. Sean will share his expertise on how to create a local SEO strategy and platforms that can help you. \nThis webinar is in partnership with Huron County Economic Development \n  \nRegister for the Event
URL:https://www.treefrog.ca/event/seo-the-way-to-get-your-business-noticed/
LOCATION:Online (webinar)
CATEGORIES:Digital Marketing
ATTACH;FMTTYPE=image/jpeg:https://www.treefrog.ca/wp-content/uploads/2020/08/GettyImages-958491794.jpg
END:VEVENT
BEGIN:VEVENT
DTSTART;TZID=America/Toronto:20210518T120000
DTEND;TZID=America/Toronto:20210518T130000
DTSTAMP:20260425T155204
CREATED:20210430T150858Z
LAST-MODIFIED:20210430T150858Z
UID:4066-1621339200-1621342800@www.treefrog.ca
SUMMARY:E-Commerce Platforms for Beginners
DESCRIPTION:Are you looking to move your business online?\nIn this hour session\, we will breakdown ecommerce platforms and determine the best one for your business. \nYou will come away with a deeper understanding of: \n\nWhat platforms are out there\nThe pros and cons of each ecommerce platform\nWhat you need to get your online store started\n\n\nIt’s time to move your business online! Register today.\n  \nThis event is in partnership with Invest Ottawa Education Centre \n  \nRegister for the Event\n 
URL:https://www.treefrog.ca/event/e-commerce-platforms-for-beginners/
LOCATION:Online (webinar)
CATEGORIES:Web Design & Development
ATTACH;FMTTYPE=image/jpeg:https://www.treefrog.ca/wp-content/uploads/2021/04/surface-qQ676cbJmns-unsplash-scaled.jpg
END:VEVENT
BEGIN:VEVENT
DTSTART;TZID=America/Toronto:20210519T120000
DTEND;TZID=America/Toronto:20210519T130000
DTSTAMP:20260425T155204
CREATED:20210413T161106Z
LAST-MODIFIED:20210413T162011Z
UID:3937-1621425600-1621429200@www.treefrog.ca
SUMMARY:Moving Your Business Online: Shopify Edition
DESCRIPTION:Are you looking for strategies to help you maximize your business? Do you want to start an e-commerce business? \nExpand your knowledge on e-commerce and learn how to get your online store up and running. Join Sean Stephens\, CEO of Treefrog\, as he shares his strategies for maximizing your e-commerce business. \nIn this webinar\, Sean will share his insider knowledge of e-commerce\, what you need to set yourself up for success\, and how to brand and market your online store. \nThis webinar is apart of the Beyond the Basics: Digital Marketing Series in partnership with The Business Centre Nipissing Parry Sound Inc.  \n  \nRegister for the Event
URL:https://www.treefrog.ca/event/moving-your-business-online-shopify-edition/
LOCATION:Online (webinar)
CATEGORIES:Web Design & Development
ATTACH;FMTTYPE=image/jpeg:https://www.treefrog.ca/wp-content/uploads/2021/04/roberto-cortese-9tYbOIpVcn4-unsplash-scaled.jpg
END:VEVENT
BEGIN:VEVENT
DTSTART;TZID=America/Toronto:20210526T100000
DTEND;TZID=America/Toronto:20210526T150000
DTSTAMP:20260425T155204
CREATED:20210430T154356Z
LAST-MODIFIED:20210430T155129Z
UID:4075-1622023200-1622041200@www.treefrog.ca
SUMMARY:Digital Durham- THRIVE
DESCRIPTION:Digital Durham – THRIVE is a virtual conference where you’ll learn about upcoming digital trends for the future\, the power of video for social media marketing\, managing your online reputation and more!  \nNine Steps to Digital Transformation  \nNo matter the size of your business\, a complete digital transformation can help you grow your business. It’s a virtual part of any business strategy and should always be top of mind. \nJoin Sean Stephens\, CEO of Treefrog Inc\, from 1:00 pm-2:00 pm\, as he shares with you the secrets to digital transformation. \nIn this session\, you’ll learn what digital transformation is and how it can help amplify your business. Sean will share his expertise on the nine steps to digital transformation and the things you need to make it successful. \nRegister today to save your seat! \n  \nRegister for the Event
URL:https://www.treefrog.ca/event/digital-durham-thrive/
LOCATION:Virtual Conference
CATEGORIES:Digital Marketing
ATTACH;FMTTYPE=image/jpeg:https://www.treefrog.ca/wp-content/uploads/2021/04/https-cdn.evbuc_.com-images-132231097-40593984614-1-original.20210414-185826-1.jpg
END:VEVENT
END:VCALENDAR