BEGIN:VCALENDAR
VERSION:2.0
PRODID:-//Treefrog Inc. - ECPv6.15.20//NONSGML v1.0//EN
CALSCALE:GREGORIAN
METHOD:PUBLISH
X-WR-CALNAME:Treefrog Inc.
X-ORIGINAL-URL:https://www.treefrog.ca
X-WR-CALDESC:Events for Treefrog Inc.
REFRESH-INTERVAL;VALUE=DURATION:PT1H
X-Robots-Tag:noindex
X-PUBLISHED-TTL:PT1H
BEGIN:VTIMEZONE
TZID:America/Toronto
BEGIN:DAYLIGHT
TZOFFSETFROM:-0500
TZOFFSETTO:-0400
TZNAME:EDT
DTSTART:20200308T070000
END:DAYLIGHT
BEGIN:STANDARD
TZOFFSETFROM:-0400
TZOFFSETTO:-0500
TZNAME:EST
DTSTART:20201101T060000
END:STANDARD
BEGIN:DAYLIGHT
TZOFFSETFROM:-0500
TZOFFSETTO:-0400
TZNAME:EDT
DTSTART:20210314T070000
END:DAYLIGHT
BEGIN:STANDARD
TZOFFSETFROM:-0400
TZOFFSETTO:-0500
TZNAME:EST
DTSTART:20211107T060000
END:STANDARD
BEGIN:DAYLIGHT
TZOFFSETFROM:-0500
TZOFFSETTO:-0400
TZNAME:EDT
DTSTART:20220313T070000
END:DAYLIGHT
BEGIN:STANDARD
TZOFFSETFROM:-0400
TZOFFSETTO:-0500
TZNAME:EST
DTSTART:20221106T060000
END:STANDARD
END:VTIMEZONE
BEGIN:VEVENT
DTSTART;TZID=America/Toronto:20210202T130000
DTEND;TZID=America/Toronto:20210204T160000
DTSTAMP:20260425T135628
CREATED:20210201T164843Z
LAST-MODIFIED:20210201T170104Z
UID:3616-1612270800-1612454400@www.treefrog.ca
SUMMARY:2021 Virtual Business Thrives Conference
DESCRIPTION:Join Sean Stephens and James Daigle on February 2nd & 4th from 1:00pm to 4:00pm as they both speak at the Virtual Business Thrives Conference. \nThe Business Thrives Conference is a live event full of industry leaders. You’ll have the opportunity to learn from leaders in various industries as they discuss how to grow your business during these uncertain times. \nRegister today to reserve your seat. \n  \nRegister for the Event
URL:https://www.treefrog.ca/event/2021-virtual-business-thrives-conference/
LOCATION:Virtual Conference
ATTACH;FMTTYPE=image/jpeg:https://www.treefrog.ca/wp-content/uploads/2021/01/digital-marketing-trends-video.jpg
END:VEVENT
BEGIN:VEVENT
DTSTART;TZID=America/Toronto:20210209T140000
DTEND;TZID=America/Toronto:20210209T160000
DTSTAMP:20260425T135628
CREATED:20210127T142407Z
LAST-MODIFIED:20210201T165846Z
UID:3602-1612879200-1612886400@www.treefrog.ca
SUMMARY:Canadian Virtual CFO Conference
DESCRIPTION:Join our CEO\, Sean Stephens\, as he gives a presentation about the importance of branding to generate new leads. \nWe will teach you how to think and look at your brand through a new lens. You will come away with a deep understanding of\n– What is branding\n– Why branding is important\n– How to create a lasting brand\n– Branding tips for any budget \n  \nThe Canadian CFO conference is a live experience jam-packed with live sessions from industry speakers. You’ll also have the opportunity to network and visit different booths. Register today to reserve your seat. \n  \nRegister for the Event
URL:https://www.treefrog.ca/event/canadian-virtual-cfo-conference/
LOCATION:Virtual Conference
CATEGORIES:Branding & Graphic Design
ATTACH;FMTTYPE=image/jpeg:https://www.treefrog.ca/wp-content/uploads/2021/01/dylan-ferreira-HJmxky8Fvmo-unsplash-scaled.jpg
END:VEVENT
BEGIN:VEVENT
DTSTART;TZID=America/Toronto:20210217T120000
DTEND;TZID=America/Toronto:20210217T130000
DTSTAMP:20260425T135628
CREATED:20210202T144106Z
LAST-MODIFIED:20210202T144106Z
UID:3622-1613563200-1613566800@www.treefrog.ca
SUMMARY:Digital Marketing in 2021: Focus on What's Important
DESCRIPTION:Join Sean Stephens\, CEO of Treefrog\, for a workshop that is full of insider tips and tricks that will help you kill digital marketing and spend your money right. In this 45 minute session\, you’ll come away with a deeper understanding about: \n\nWhat digital marketing is\nHow it can grow your business\nTools that can help you succeed\nDigital marketing trends for 2021 that you can use to help your business.\n\nDo you want to grow your business in 2021? Register today and save your seat. \n  \nRegister for the Event\n  \nThis session is in partnership with The Business Centre Nipissing Parry Sound.
URL:https://www.treefrog.ca/event/digital-marketing-in-2021-focus-on-whats-important/
LOCATION:Online (webinar)
CATEGORIES:Digital Marketing
ATTACH;FMTTYPE=image/jpeg:https://www.treefrog.ca/wp-content/uploads/2021/02/austin-distel-tLZhFRLj6nY-unsplash-scaled.jpg
END:VEVENT
BEGIN:VEVENT
DTSTART;TZID=America/Toronto:20210225T140000
DTEND;TZID=America/Toronto:20210225T160000
DTSTAMP:20260425T135628
CREATED:20210127T143247Z
LAST-MODIFIED:20210201T165608Z
UID:3613-1614261600-1614268800@www.treefrog.ca
SUMMARY:Canadian Virtual Presidents Conference
DESCRIPTION:Join our CEO\, Sean Stephens\, as he gives a presentation about the importance of branding to generate new leads. \nWe will teach you how to think and look at your brand through a new lens. You will come away with a deep understanding of\n– What is branding\n– Why branding is important\n– How to create a lasting brand\n– Branding tips for any budget \n  \nThe Canadian Presidents Conference live event for presidents of organizations. You’ll also have the opportunity to network and listen to industry leaders speak on a range of topics. Register today to reserve your seat. \n  \nRegister for the Event
URL:https://www.treefrog.ca/event/canadian-virtual-presidents-conference/
LOCATION:Virtual Conference
CATEGORIES:Branding & Graphic Design
ATTACH;FMTTYPE=image/jpeg:https://www.treefrog.ca/wp-content/uploads/2021/01/nathan-dumlao-9dYwCScW0Rs-unsplash-scaled.jpg
END:VEVENT
END:VCALENDAR