BEGIN:VCALENDAR
VERSION:2.0
PRODID:-//Treefrog Inc. - ECPv6.15.20//NONSGML v1.0//EN
CALSCALE:GREGORIAN
METHOD:PUBLISH
X-WR-CALNAME:Treefrog Inc.
X-ORIGINAL-URL:https://www.treefrog.ca
X-WR-CALDESC:Events for Treefrog Inc.
REFRESH-INTERVAL;VALUE=DURATION:PT1H
X-Robots-Tag:noindex
X-PUBLISHED-TTL:PT1H
BEGIN:VTIMEZONE
TZID:America/Toronto
BEGIN:DAYLIGHT
TZOFFSETFROM:-0500
TZOFFSETTO:-0400
TZNAME:EDT
DTSTART:20190310T070000
END:DAYLIGHT
BEGIN:STANDARD
TZOFFSETFROM:-0400
TZOFFSETTO:-0500
TZNAME:EST
DTSTART:20191103T060000
END:STANDARD
BEGIN:DAYLIGHT
TZOFFSETFROM:-0500
TZOFFSETTO:-0400
TZNAME:EDT
DTSTART:20200308T070000
END:DAYLIGHT
BEGIN:STANDARD
TZOFFSETFROM:-0400
TZOFFSETTO:-0500
TZNAME:EST
DTSTART:20201101T060000
END:STANDARD
BEGIN:DAYLIGHT
TZOFFSETFROM:-0500
TZOFFSETTO:-0400
TZNAME:EDT
DTSTART:20210314T070000
END:DAYLIGHT
BEGIN:STANDARD
TZOFFSETFROM:-0400
TZOFFSETTO:-0500
TZNAME:EST
DTSTART:20211107T060000
END:STANDARD
END:VTIMEZONE
BEGIN:VEVENT
DTSTART;TZID=America/Toronto:20201105T120000
DTEND;TZID=America/Toronto:20201105T120000
DTSTAMP:20260425T192105
CREATED:20200814T134916Z
LAST-MODIFIED:20200814T174959Z
UID:3153-1604577600-1604577600@www.treefrog.ca
SUMMARY:A Beginner’s Guide to SEO: How to Improve Your Local SEO
DESCRIPTION:Did you know that 93% of online experiences start with an online search? \nSearch engine optimization or SEO is the name of the game for getting your business to appear on search engines like Google. No matter the size of your business\, SEO can help you grow your online presence and should be a vital part of your marketing strategy. \nTreefrog has helped hundreds of businesses with digital marketing.In this webinar\, Ziwei Chen and Taylor Duckworth\, Digital Marketing Specialists at Treefrog Inc\, share their expertise to help you create a local SEO strategy for your small business. \nThis event is in partnership with the Town of Orangeville. \n  \nRegister for the Event
URL:https://www.treefrog.ca/event/a-beginners-guide-to-seo-how-to-improve-your-local-seo/
LOCATION:Online (webinar)
CATEGORIES:Digital Marketing
ATTACH;FMTTYPE=image/jpeg:https://www.treefrog.ca/wp-content/uploads/2020/08/GettyImages-958491794.jpg
END:VEVENT
BEGIN:VEVENT
DTSTART;TZID=America/Toronto:20201112T120000
DTEND;TZID=America/Toronto:20201112T130000
DTSTAMP:20260425T192105
CREATED:20200820T174344Z
LAST-MODIFIED:20201009T124023Z
UID:3192-1605182400-1605186000@www.treefrog.ca
SUMMARY:Stop Living in Excel
DESCRIPTION:Are you using Excel as a customer tracking tool\, or product\, inventory\, or sales tracking? If so\, you may be limiting your business potential. \nThere are a lot of high quality (and high cost) enterprise-level systems available on the market\, yet finding a suitable and affordable solution for your business to grow beyond the spreadsheet can be difficult. \nSmall and medium businesses (SMB’s) need a lower cost of entry to a custom business system: one that does what fits their processes and doesn’t carry high maintenance costs or expensive annual support contracts. The best place for these systems is online. In this webinar\, you will walk away knowing: \n\nHow to determine the right system for your business based on data management\, analytics\, and visualization\nWhat metrics to use to measure and improve user productivity in overcoming spreadsheet limitations\nHow to evaluate technologies for your business needs and ROI\nGain uncommon insight from spreadsheet data to create competitive advantages.\n\nRegistration is free. All attendees will also receive an e-guide to Think Beyond Spreadsheets: 6 Steps for SMBs to empower their data.\n  \nRegister for the Event
URL:https://www.treefrog.ca/event/moving-past-your-busted-excel-system/
LOCATION:Online (webinar)
CATEGORIES:Web Application
ATTACH;FMTTYPE=image/jpeg:https://www.treefrog.ca/wp-content/uploads/2020/08/GettyImages-1255009417.jpg
END:VEVENT
END:VCALENDAR