BEGIN:VCALENDAR
VERSION:2.0
PRODID:-//Treefrog Inc. - ECPv6.15.20//NONSGML v1.0//EN
CALSCALE:GREGORIAN
METHOD:PUBLISH
X-WR-CALNAME:Treefrog Inc.
X-ORIGINAL-URL:https://www.treefrog.ca
X-WR-CALDESC:Events for Treefrog Inc.
REFRESH-INTERVAL;VALUE=DURATION:PT1H
X-Robots-Tag:noindex
X-PUBLISHED-TTL:PT1H
BEGIN:VTIMEZONE
TZID:America/Toronto
BEGIN:DAYLIGHT
TZOFFSETFROM:-0500
TZOFFSETTO:-0400
TZNAME:EDT
DTSTART:20190310T070000
END:DAYLIGHT
BEGIN:STANDARD
TZOFFSETFROM:-0400
TZOFFSETTO:-0500
TZNAME:EST
DTSTART:20191103T060000
END:STANDARD
BEGIN:DAYLIGHT
TZOFFSETFROM:-0500
TZOFFSETTO:-0400
TZNAME:EDT
DTSTART:20200308T070000
END:DAYLIGHT
BEGIN:STANDARD
TZOFFSETFROM:-0400
TZOFFSETTO:-0500
TZNAME:EST
DTSTART:20201101T060000
END:STANDARD
BEGIN:DAYLIGHT
TZOFFSETFROM:-0500
TZOFFSETTO:-0400
TZNAME:EDT
DTSTART:20210314T070000
END:DAYLIGHT
BEGIN:STANDARD
TZOFFSETFROM:-0400
TZOFFSETTO:-0500
TZNAME:EST
DTSTART:20211107T060000
END:STANDARD
END:VTIMEZONE
BEGIN:VEVENT
DTSTART;TZID=America/Toronto:20200910T110000
DTEND;TZID=America/Toronto:20200910T120000
DTSTAMP:20260425T225354
CREATED:20200706T164140Z
LAST-MODIFIED:20200706T164140Z
UID:3088-1599735600-1599739200@www.treefrog.ca
SUMMARY:How to Pick the Right Web Platform for Your Business
DESCRIPTION:Are you a new business? Not sure what web platform is right for your business? \nDiscover what web platform will work best for your business and how it will help your business succeed. \nJoin Sean Stephens\, CEO of Treefrog\, for a webinar that will teach you the ins and outs of different web platforms. \nHere at Treefrog\, we’ve helped countless businesses with hosting and infrastructure. In this webinar\, you’ll learn web platform basics\, why it’s necessary to choose the right web platform\, and what web platform is the right fit for your business. \n  \nRegister for the Event
URL:https://www.treefrog.ca/event/how-to-pick-the-right-web-platform-for-your-business/
LOCATION:Online (webinar)
CATEGORIES:Hosting and Infrastructure
ATTACH;FMTTYPE=image/jpeg:https://www.treefrog.ca/wp-content/uploads/2020/07/GettyImages-1138947293-scaled.jpg
END:VEVENT
BEGIN:VEVENT
DTSTART;TZID=America/Toronto:20200924T120000
DTEND;TZID=America/Toronto:20200924T130000
DTSTAMP:20260425T225354
CREATED:20200723T184041Z
LAST-MODIFIED:20200820T181950Z
UID:3120-1600948800-1600952400@www.treefrog.ca
SUMMARY:Hackers Beware: Protecting What Matters in Your Business
DESCRIPTION:Are you looking for more ways to protect your business from hackers?\nCybercrime numbers are growing exponentially\, which means now more than ever\, we need to think about how to protect our businesses from being attacked. \nTreefrog CEO Sean Stephens will teach you how to avoid the tricks and techniques of the elite hackers and phishers. \nLearn about basic cybersecurity tips for your home and main street business including how to prevent hackers from damaging your business information and operations. With a few key checklists and tools\, you too can protect yourself\, your data\, and your business. \nThis event is in partnership with the Town of Orangeville. \n  \nRegister for the Event
URL:https://www.treefrog.ca/event/hackers-beward-protecting-what-matters-in-your-business/
LOCATION:Online (webinar)
CATEGORIES:Hosting and Infrastructure
ATTACH;FMTTYPE=image/jpeg:https://www.treefrog.ca/wp-content/uploads/2020/07/james-harrison-vpOeXr5wmR4-unsplash-scaled.jpg
END:VEVENT
END:VCALENDAR